BEGIN:VCALENDAR
VERSION:2.0
PRODID:-//Hudson County - ECPv6.15.20//NONSGML v1.0//EN
CALSCALE:GREGORIAN
METHOD:PUBLISH
X-ORIGINAL-URL:https://www.hcnj.us
X-WR-CALDESC:Events for Hudson County
REFRESH-INTERVAL;VALUE=DURATION:PT1H
X-Robots-Tag:noindex
X-PUBLISHED-TTL:PT1H
BEGIN:VTIMEZONE
TZID:America/New_York
BEGIN:DAYLIGHT
TZOFFSETFROM:-0500
TZOFFSETTO:-0400
TZNAME:EDT
DTSTART:20240310T070000
END:DAYLIGHT
BEGIN:STANDARD
TZOFFSETFROM:-0400
TZOFFSETTO:-0500
TZNAME:EST
DTSTART:20241103T060000
END:STANDARD
BEGIN:DAYLIGHT
TZOFFSETFROM:-0500
TZOFFSETTO:-0400
TZNAME:EDT
DTSTART:20250309T070000
END:DAYLIGHT
BEGIN:STANDARD
TZOFFSETFROM:-0400
TZOFFSETTO:-0500
TZNAME:EST
DTSTART:20251102T060000
END:STANDARD
BEGIN:DAYLIGHT
TZOFFSETFROM:-0500
TZOFFSETTO:-0400
TZNAME:EDT
DTSTART:20260308T070000
END:DAYLIGHT
BEGIN:STANDARD
TZOFFSETFROM:-0400
TZOFFSETTO:-0500
TZNAME:EST
DTSTART:20261101T060000
END:STANDARD
END:VTIMEZONE
BEGIN:VEVENT
DTSTART;TZID=America/New_York:20250804T110000
DTEND;TZID=America/New_York:20250804T120000
DTSTAMP:20260423T095029
CREATED:20250730T162311Z
LAST-MODIFIED:20250730T162750Z
UID:16848-1754305200-1754308800@www.hcnj.us
SUMMARY:Snack Distribution
DESCRIPTION:Join us for our free snack distribution for the Kearny Recreation Summer Camp. \nClick here for more information. 
URL:https://www.hcnj.us/event/snack-distribution/
LOCATION:Schuyler Elementary School\, 644 Forest St\, Kearny\, NJ\, 07032\, United States
CATEGORIES:APPROVED EVENTS
END:VEVENT
BEGIN:VEVENT
DTSTART;TZID=America/New_York:20250806T190000
DTEND;TZID=America/New_York:20250806T220000
DTSTAMP:20260423T095029
CREATED:20250721T135956Z
LAST-MODIFIED:20250721T135956Z
UID:16749-1754506800-1754517600@www.hcnj.us
SUMMARY:Movies in the Park - Wreck it Ralph 2
DESCRIPTION:Movie begins at sundown!\nFree popcorn and drinks provided.\nRainout: August 27th \nClick here for more info. 
URL:https://www.hcnj.us/event/movies-in-the-park-wreck-it-ralph-2/
LOCATION:Washington Park\, Union City/Jersey City
CATEGORIES:Movies in the Park 2025
END:VEVENT
BEGIN:VEVENT
DTSTART;TZID=America/New_York:20250807T170000
DTEND;TZID=America/New_York:20250807T180000
DTSTAMP:20260423T095029
CREATED:20250710T195335Z
LAST-MODIFIED:20250710T195701Z
UID:16541-1754586000-1754589600@www.hcnj.us
SUMMARY:Annual Puerto Rican Flag Raising
DESCRIPTION:Annual Puerto Rican\nFlag Raising with our\nfriends from JCPRHAC \nClick here for more info!
URL:https://www.hcnj.us/event/annual-puerto-rican-flag-raising/
LOCATION:Brennan Court House\, 583 Newark Ave\, Jersey City\, 07306
CATEGORIES:APPROVED EVENTS
END:VEVENT
BEGIN:VEVENT
DTSTART;TZID=America/New_York:20250807T190000
DTEND;TZID=America/New_York:20250807T220000
DTSTAMP:20260423T095029
CREATED:20250721T140648Z
LAST-MODIFIED:20250721T140648Z
UID:16751-1754593200-1754604000@www.hcnj.us
SUMMARY:Movies in the Park - Smurfs the Lost Village
DESCRIPTION:Movie begins at sundown!\nFree popcorn and drinks provided.\nRainout: August 11th \nClick here for more info. 
URL:https://www.hcnj.us/event/movies-in-the-park-smurfs-the-lost-village/
LOCATION:Braddock Park\, North Bergen
CATEGORIES:Movies in the Park 2025
END:VEVENT
BEGIN:VEVENT
DTSTART;TZID=America/New_York:20250812T110000
DTEND;TZID=America/New_York:20250812T120000
DTSTAMP:20260423T095029
CREATED:20250730T162009Z
LAST-MODIFIED:20250730T162009Z
UID:16845-1754996400-1755000000@www.hcnj.us
SUMMARY:Snack and Food Distribution
DESCRIPTION:Join us for our free snack and food distribution for the STEAM camp at Explore Middle School – Hudson County Schools of Technology. \nClick here for more information.
URL:https://www.hcnj.us/event/snack-and-food-distribution/
LOCATION:Explore Middle School\, 180 9th St.\, jersey city\, NJ\, 07302\, United States
CATEGORIES:APPROVED EVENTS
END:VEVENT
BEGIN:VEVENT
DTSTART;TZID=America/New_York:20250812T110000
DTEND;TZID=America/New_York:20250812T120000
DTSTAMP:20260423T095029
CREATED:20250730T162425Z
LAST-MODIFIED:20250730T162636Z
UID:16851-1754996400-1755000000@www.hcnj.us
SUMMARY:Food Distribution
DESCRIPTION:Join us for our free food distribution for the Kearny Recreation Summer Camp. \nClick here for more information. 
URL:https://www.hcnj.us/event/food-distribution/
LOCATION:Schuyler Elementary School\, 644 Forest St\, Kearny\, NJ\, 07032\, United States
CATEGORIES:APPROVED EVENTS
END:VEVENT
BEGIN:VEVENT
DTSTART;TZID=America/New_York:20250812T190000
DTEND;TZID=America/New_York:20250812T220000
DTSTAMP:20260423T095029
CREATED:20250721T155037Z
LAST-MODIFIED:20250721T155037Z
UID:16762-1755025200-1755036000@www.hcnj.us
SUMMARY:Movies in the Park - The Lorax
DESCRIPTION:Movie begins at sundown!\nFree popcorn and drinks provided.\nRainout: August 18th \nClick here for more info. 
URL:https://www.hcnj.us/event/movies-in-the-park-the-lorax/
LOCATION:Laruel Hill Park\, 1002 New County Rd\, Secaucus\, NJ\, 07094\, United States
CATEGORIES:Movies in the Park 2025
END:VEVENT
BEGIN:VEVENT
DTSTART;TZID=America/New_York:20250813T130000
DTEND;TZID=America/New_York:20250813T150000
DTSTAMP:20260423T095029
CREATED:20260113T172436Z
LAST-MODIFIED:20260113T173432Z
UID:18594-1755090000-1755097200@www.hcnj.us
SUMMARY:Board of County Commissioners Regular Meeting
DESCRIPTION:Click here for more info.
URL:https://www.hcnj.us/event/board-of-county-commissioners-regular-meeting-14/
CATEGORIES:Commissioners Meeting
END:VEVENT
BEGIN:VEVENT
DTSTART;TZID=America/New_York:20250814T123000
DTEND;TZID=America/New_York:20250814T133000
DTSTAMP:20260423T095029
CREATED:20250710T195902Z
LAST-MODIFIED:20250710T195902Z
UID:16545-1755174600-1755178200@www.hcnj.us
SUMMARY:Annual Pakistan Independence Day Flag Raising
DESCRIPTION:Join us for the Annual Pakistan\nIndependence Day Flag Raising\nlunchtime ceremony at the HC\nPlaza with the Pakistani community\nof Hudson County \nClick here for more info!
URL:https://www.hcnj.us/event/annual-pakistan-independence-day-flag-raising/
LOCATION:Hudson County Plaza\, 257 Cornelison Ave\, Jersey City\, NJ\, 07302\, United States
CATEGORIES:APPROVED EVENTS
END:VEVENT
BEGIN:VEVENT
DTSTART;TZID=America/New_York:20250814T180000
DTEND;TZID=America/New_York:20250814T190000
DTSTAMP:20260423T095029
CREATED:20250710T195544Z
LAST-MODIFIED:20250710T195544Z
UID:16543-1755194400-1755198000@www.hcnj.us
SUMMARY:Annual Dominican Republic Restoration Day Flag Raising
DESCRIPTION:Join us as we raise the flag of\nthe Dominican Republic in\nhonor of their Restoration\nDay. This event honors a\nbattle that finally led\nto the nation’s second\nindependence from Spain. \nClick here for more info!
URL:https://www.hcnj.us/event/annual-dominican-republic-restoration-day-flag-raising/
LOCATION:Brennan Court House\, 583 Newark Ave\, Jersey City\, 07306
CATEGORIES:APPROVED EVENTS
END:VEVENT
BEGIN:VEVENT
DTSTART;TZID=America/New_York:20250814T190000
DTEND;TZID=America/New_York:20250814T220000
DTSTAMP:20260423T095029
CREATED:20250721T155309Z
LAST-MODIFIED:20250721T155309Z
UID:16764-1755198000-1755208800@www.hcnj.us
SUMMARY:Movies in the Park - Daddy Day Care
DESCRIPTION:Movie begins at sundown!\nFree popcorn and drinks provided.\nRainout: August 26th \nClick here for more info.
URL:https://www.hcnj.us/event/movies-in-the-park-daddy-day-care/
LOCATION:West Hudson Park\, Schyuler Avenue &\, Davis Ave\, Harrison\, NJ\, 07029\, United States
CATEGORIES:Movies in the Park 2025
END:VEVENT
BEGIN:VEVENT
DTSTART;TZID=America/New_York:20250815T120000
DTEND;TZID=America/New_York:20250815T130000
DTSTAMP:20260423T095029
CREATED:20250710T203048Z
LAST-MODIFIED:20250710T203048Z
UID:16563-1755259200-1755262800@www.hcnj.us
SUMMARY:Annual Indian Independence Day Flag Raising
DESCRIPTION:Join us during your lunch\noutside of the beautiful\nHC Plaza as we raise the\nIndian Flag with our community \nClick here for more information
URL:https://www.hcnj.us/event/annual-indian-independence-day-flag-raising/
LOCATION:Hudson County Plaza\, 257 Cornelison Ave\, Jersey City\, NJ\, 07302\, United States
CATEGORIES:APPROVED EVENTS
END:VEVENT
BEGIN:VEVENT
DTSTART;TZID=America/New_York:20250819T190000
DTEND;TZID=America/New_York:20250819T220000
DTSTAMP:20260423T095029
CREATED:20250721T155430Z
LAST-MODIFIED:20250721T155430Z
UID:16766-1755630000-1755640800@www.hcnj.us
SUMMARY:Movies in the Park - Toy Story
DESCRIPTION:Movie begins at sundown!\nFree popcorn and drinks provided.\nRainout: August 25th \nClick here for more info. 
URL:https://www.hcnj.us/event/movies-in-the-park-toy-story/
LOCATION:Mercer Park\, Mercer Park\, Bayonne\, NJ\, 07002\, United States
CATEGORIES:Movies in the Park 2025
END:VEVENT
BEGIN:VEVENT
DTSTART;TZID=America/New_York:20250820T080000
DTEND;TZID=America/New_York:20250820T170000
DTSTAMP:20260423T095029
CREATED:20250819T191301Z
LAST-MODIFIED:20250819T191542Z
UID:17042-1755676800-1755709200@www.hcnj.us
SUMMARY:Strides for Safety 5K
DESCRIPTION:The Office of the Hudson County Executive invites you to: Save the Date for the 4th Annual Strides for Safety 5K Against Gun Violence!  \nVisit https://hcstridesforsafety5k.hcnj.us/ to view course map and register!
URL:https://www.hcnj.us/event/strides-for-safety/
LOCATION:Lincoln Park\, 1 Lincoln Park\, Jersey City\, 07304\, United States
CATEGORIES:APPROVED EVENTS
END:VEVENT
BEGIN:VEVENT
DTSTART;TZID=America/New_York:20250821T190000
DTEND;TZID=America/New_York:20250821T220000
DTSTAMP:20260423T095029
CREATED:20250721T155538Z
LAST-MODIFIED:20250721T155538Z
UID:16768-1755802800-1755813600@www.hcnj.us
SUMMARY:Movies in the Park - Ratatouille
DESCRIPTION:Movie begins at sundown!\nFree popcorn and drinks provided.\nRainout: August 28th \nClick here for more info. 
URL:https://www.hcnj.us/event/movies-in-the-park-ratatouille/
LOCATION:Columbus Park\, 10th St and Clinton St\, Hoboken\, NJ\, 07030\, United States
CATEGORIES:Movies in the Park 2025
END:VEVENT
BEGIN:VEVENT
DTSTART;TZID=America/New_York:20250825T120000
DTEND;TZID=America/New_York:20250825T130000
DTSTAMP:20260423T095029
CREATED:20250818T161648Z
LAST-MODIFIED:20250818T161734Z
UID:17025-1756123200-1756126800@www.hcnj.us
SUMMARY:Hackensack River Greenway Designation
DESCRIPTION:County Executive Guy invites you to join us for a Hudson County Hackensack River Greenway event where we will designate the official Greenway with new signs to be revealed along the waterfront walkway of Stephen R. Gregg Park in Bayonne. \nPlease RSVP to this event by Wednesday\, August 20th to kdiaz@hcnj.us \nClick here for more information.
URL:https://www.hcnj.us/event/hackensack-river-greenway-designation/
LOCATION:Gregg Park\, 930 John F. Kennedy Blvd\, Bayonne\, NJ\, 07002\, United States
CATEGORIES:APPROVED EVENTS
END:VEVENT
END:VCALENDAR